BEGIN:VCALENDAR
VERSION:2.0
PRODID:-//Jazz&#039;On - ECPv6.15.20//NONSGML v1.0//EN
CALSCALE:GREGORIAN
METHOD:PUBLISH
X-ORIGINAL-URL:https://jazz-on-dijon.fr
X-WR-CALDESC:Évènements pour Jazz&#039;On
REFRESH-INTERVAL;VALUE=DURATION:PT1H
X-Robots-Tag:noindex
X-PUBLISHED-TTL:PT1H
BEGIN:VTIMEZONE
TZID:Europe/Paris
BEGIN:DAYLIGHT
TZOFFSETFROM:+0100
TZOFFSETTO:+0200
TZNAME:CEST
DTSTART:20230326T010000
END:DAYLIGHT
BEGIN:STANDARD
TZOFFSETFROM:+0200
TZOFFSETTO:+0100
TZNAME:CET
DTSTART:20231029T010000
END:STANDARD
BEGIN:DAYLIGHT
TZOFFSETFROM:+0100
TZOFFSETTO:+0200
TZNAME:CEST
DTSTART:20240331T010000
END:DAYLIGHT
BEGIN:STANDARD
TZOFFSETFROM:+0200
TZOFFSETTO:+0100
TZNAME:CET
DTSTART:20241027T010000
END:STANDARD
BEGIN:DAYLIGHT
TZOFFSETFROM:+0100
TZOFFSETTO:+0200
TZNAME:CEST
DTSTART:20250330T010000
END:DAYLIGHT
BEGIN:STANDARD
TZOFFSETFROM:+0200
TZOFFSETTO:+0100
TZNAME:CET
DTSTART:20251026T010000
END:STANDARD
END:VTIMEZONE
BEGIN:VEVENT
DTSTART;TZID=Europe/Paris:20240127T203000
DTEND;TZID=Europe/Paris:20240127T203000
DTSTAMP:20260423T005710
CREATED:20240313T164859Z
LAST-MODIFIED:20240322T162223Z
UID:3342-1706387400-1706387400@jazz-on-dijon.fr
SUMMARY:1er Boeuf de l'année ! Blues
DESCRIPTION:Venez nous rejoindre pour le premier boeuf de l’année Jazz’On the Rezo\, spécial Blues\, en partenariat avec l’association Rézo’Fêt’Art\, le samedi 27 janvier à 20h30. L’atelier prépa Boeuf commencera à partir de 17h. \nBoeuf blues liste – Jazz’On samedi 27 janvier \nEntrée Libre. Bar et Restauration sur place. Venez nombreux \n 
URL:https://jazz-on-dijon.fr/event/1er-boeuf-de-lannee-blues/
LOCATION:Rézo’Fêt’Art\, 78 quai Nicolas Rolin\, Dijon\, Bourgogne\, 21000\, France
CATEGORIES:Boeuf
ATTACH;FMTTYPE=image/png:https://jazz-on-dijon.fr/wp-content/uploads/2024/03/boeuf-blues-16-9.png
END:VEVENT
END:VCALENDAR