BEGIN:VCALENDAR
VERSION:2.0
PRODID:-//Jazz&#039;On - ECPv6.15.20//NONSGML v1.0//EN
CALSCALE:GREGORIAN
METHOD:PUBLISH
X-ORIGINAL-URL:https://jazz-on-dijon.fr
X-WR-CALDESC:Évènements pour Jazz&#039;On
REFRESH-INTERVAL;VALUE=DURATION:PT1H
X-Robots-Tag:noindex
X-PUBLISHED-TTL:PT1H
BEGIN:VTIMEZONE
TZID:Europe/Paris
BEGIN:DAYLIGHT
TZOFFSETFROM:+0100
TZOFFSETTO:+0200
TZNAME:CEST
DTSTART:20230326T010000
END:DAYLIGHT
BEGIN:STANDARD
TZOFFSETFROM:+0200
TZOFFSETTO:+0100
TZNAME:CET
DTSTART:20231029T010000
END:STANDARD
BEGIN:DAYLIGHT
TZOFFSETFROM:+0100
TZOFFSETTO:+0200
TZNAME:CEST
DTSTART:20240331T010000
END:DAYLIGHT
BEGIN:STANDARD
TZOFFSETFROM:+0200
TZOFFSETTO:+0100
TZNAME:CET
DTSTART:20241027T010000
END:STANDARD
BEGIN:DAYLIGHT
TZOFFSETFROM:+0100
TZOFFSETTO:+0200
TZNAME:CEST
DTSTART:20250330T010000
END:DAYLIGHT
BEGIN:STANDARD
TZOFFSETFROM:+0200
TZOFFSETTO:+0100
TZNAME:CET
DTSTART:20251026T010000
END:STANDARD
END:VTIMEZONE
BEGIN:VEVENT
DTSTART;TZID=Europe/Paris:20240321T200000
DTEND;TZID=Europe/Paris:20240321T233000
DTSTAMP:20260422T223055
CREATED:20240313T212749Z
LAST-MODIFIED:20240313T213624Z
UID:3375-1711051200-1711063800@jazz-on-dijon.fr
SUMMARY:Boeuf Blues à la Vapeur
DESCRIPTION:Notre professeur de batterie\, Jean Michel Bove\, vous invite à un boeuf Blues le jeudi 21 mars à 20h30 (ouverture des portes à 20h00) à la Vapeur\, 42 rue de Stalingrad à Dijon. \nLa soirée sera animé par son groupe « Blue Biscuit » \nCe sont quatre musiciens d’expérience dont les routes se croisent au carrefour des musiques afro-américaines.\nAvec le blues comme moyen d’expression\, les individualités se fondent en une voix unique et compacte qui fait émerger des grooves solides et des improvisations fusionnelles.\nQu’ils se produisent en quartet ou en trio au gré des circonstances\, la magie opère et la musique conserve la même fraîcheur. Groove\, énergie et bonheur de partager sont toujours au rendez-vous avec BLUE BISCUIT.\n\nMusiciens :\nGuitare et Chant : Ivan David\nOrgue Hammond : Sébastien Vaivrand\nBatterie : Jean-Michel Bove\n\nVoici quelques titres pour commencer le bœuf :\n– Sweet home Chicago (D) : Robert Johnson\n– Key To The Highway (A) : Charlie Segar/Little Walter\n– Cocaïne (E) : JJ Cale\n– Hoochie Coochie Man (A): Willie Dixon\n– Killing Floor (A) : Muddy Waters/Preston Foster\n– Rock me Baby (C) : BB King (slow funky groove)
URL:https://jazz-on-dijon.fr/event/boeuf-blues-a-la-vapeur/
LOCATION:La Vapeur\, 42 avenue de Stalingrad\, Dijon\, 21000\, France
CATEGORIES:Boeuf
ATTACH;FMTTYPE=image/png:https://jazz-on-dijon.fr/wp-content/uploads/2024/03/boeuf-la-vapeur-16-9.png
ORGANIZER;CN="Association Vaporetto":MAILTO:boeuf.vaporetto@laposte.net
END:VEVENT
END:VCALENDAR