BEGIN:VCALENDAR
VERSION:2.0
PRODID:-//Jazz&#039;On - ECPv6.15.20//NONSGML v1.0//EN
CALSCALE:GREGORIAN
METHOD:PUBLISH
X-WR-CALNAME:Jazz&#039;On
X-ORIGINAL-URL:https://jazz-on-dijon.fr
X-WR-CALDESC:Évènements pour Jazz&#039;On
REFRESH-INTERVAL;VALUE=DURATION:PT1H
X-Robots-Tag:noindex
X-PUBLISHED-TTL:PT1H
BEGIN:VTIMEZONE
TZID:Europe/Paris
BEGIN:DAYLIGHT
TZOFFSETFROM:+0100
TZOFFSETTO:+0200
TZNAME:CEST
DTSTART:20230326T010000
END:DAYLIGHT
BEGIN:STANDARD
TZOFFSETFROM:+0200
TZOFFSETTO:+0100
TZNAME:CET
DTSTART:20231029T010000
END:STANDARD
BEGIN:DAYLIGHT
TZOFFSETFROM:+0100
TZOFFSETTO:+0200
TZNAME:CEST
DTSTART:20240331T010000
END:DAYLIGHT
BEGIN:STANDARD
TZOFFSETFROM:+0200
TZOFFSETTO:+0100
TZNAME:CET
DTSTART:20241027T010000
END:STANDARD
BEGIN:DAYLIGHT
TZOFFSETFROM:+0100
TZOFFSETTO:+0200
TZNAME:CEST
DTSTART:20250330T010000
END:DAYLIGHT
BEGIN:STANDARD
TZOFFSETFROM:+0200
TZOFFSETTO:+0100
TZNAME:CET
DTSTART:20251026T010000
END:STANDARD
END:VTIMEZONE
BEGIN:VEVENT
DTSTART;TZID=Europe/Paris:20240322T190000
DTEND;TZID=Europe/Paris:20240322T233000
DTSTAMP:20260422T222714
CREATED:20240313T183909Z
LAST-MODIFIED:20240322T095937Z
UID:3360-1711134000-1711150200@jazz-on-dijon.fr
SUMMARY:After Midnight : On The Road Again !
DESCRIPTION:Notre professeur de guitare Blues\, Keith Cruicks\, a le plaisir de vous inviter au prochain concert de son groupe After Midnight\, dans le cadre du Festival Blues Blast 2024 organisé par Jagoblues à Talant.\nIl sera accompagné par Jean Michel Bove\, professeur de batterie à Jazz’On également\, et par Stéphane Ickiewics\, Basse et Chant. \nLe groupe se produit le vendredi 22 mars au bistro LBM « La Bonne Mesure »\, situé 31 rue de la Liberation à Talant. Keith vous attend à partir de 19h\, l’entrée est gratuite sur réservation au 03 45 62 23 22. \nBar et Restauration sur place \nAmateurs de Blues\, venez nombreux ! \n \n 
URL:https://jazz-on-dijon.fr/event/after-midnight-on-the-road-again/
LOCATION:La Bonne Mesure\, 31 rue de la Libération\, TALANT\, 21240\, France
CATEGORIES:Concert
ATTACH;FMTTYPE=image/png:https://jazz-on-dijon.fr/wp-content/uploads/2024/03/Blues-Blats-Festival16-9-2.png
END:VEVENT
END:VCALENDAR