BEGIN:VCALENDAR
VERSION:2.0
PRODID:-//Jazz&#039;On - ECPv6.15.20//NONSGML v1.0//EN
CALSCALE:GREGORIAN
METHOD:PUBLISH
X-ORIGINAL-URL:https://jazz-on-dijon.fr
X-WR-CALDESC:Évènements pour Jazz&#039;On
REFRESH-INTERVAL;VALUE=DURATION:PT1H
X-Robots-Tag:noindex
X-PUBLISHED-TTL:PT1H
BEGIN:VTIMEZONE
TZID:Europe/Paris
BEGIN:DAYLIGHT
TZOFFSETFROM:+0100
TZOFFSETTO:+0200
TZNAME:CEST
DTSTART:20230326T010000
END:DAYLIGHT
BEGIN:STANDARD
TZOFFSETFROM:+0200
TZOFFSETTO:+0100
TZNAME:CET
DTSTART:20231029T010000
END:STANDARD
BEGIN:DAYLIGHT
TZOFFSETFROM:+0100
TZOFFSETTO:+0200
TZNAME:CEST
DTSTART:20240331T010000
END:DAYLIGHT
BEGIN:STANDARD
TZOFFSETFROM:+0200
TZOFFSETTO:+0100
TZNAME:CET
DTSTART:20241027T010000
END:STANDARD
BEGIN:DAYLIGHT
TZOFFSETFROM:+0100
TZOFFSETTO:+0200
TZNAME:CEST
DTSTART:20250330T010000
END:DAYLIGHT
BEGIN:STANDARD
TZOFFSETFROM:+0200
TZOFFSETTO:+0100
TZNAME:CET
DTSTART:20251026T010000
END:STANDARD
END:VTIMEZONE
BEGIN:VEVENT
DTSTART;TZID=Europe/Paris:20240614T190000
DTEND;TZID=Europe/Paris:20240614T230000
DTSTAMP:20260422T190412
CREATED:20240322T151756Z
LAST-MODIFIED:20240611T071407Z
UID:3745-1718391600-1718406000@jazz-on-dijon.fr
SUMMARY:Concert de Fin d'Année Jazz'On au Crusoë
DESCRIPTION:Jazz’On vous invite à son concert de fin d’année\,\n\n\nle Vendredi 14 Juin à partir de 19h\,\n\n\nau Crusoë\, 168 rue de Longvic\, à Dijon.\n\n\nPas moins de 10 formations se succéderont sur scène\, 4 combos Jazz\, 2 groupes de Blues\, 2 Groupes Vocaux\, la chorale de Jazz’On\, et son célèbre Big Band After Jazz Band.\n\n\nTarif unique : 12 €\n\n\nRéservation sur place\nou par téléphone : 03 80 67 40 40\n\n\nBilletterie en ligne :  https://my.weezevent.com/jazz-on-2\n(Vous pouvez aussi scanner le QR code).\nLes derniers billets seront également en vente le soir même.\n\n\n\nBar et Restauration sur place.\n\n\n\nLes élèves de Jazz’On vous attendent nombreux pour vous présenter le travail de l’année dans une ambiance conviviale et festive\n\n\nTiming modifié Concert Le Crusoé 2024\n\nBalances  le Jeudi 13 Juin :\nTiming Jazz’On – Balances Crusoé – 13 juin 2024
URL:https://jazz-on-dijon.fr/event/concert-de-fin-dannee-jazzon-au-crusoe/
LOCATION:Le Crusoë\, 168\, rue de Longvic\, Dijon\, Bourgogne\, 21000\, France
CATEGORIES:Concert
ATTACH;FMTTYPE=image/png:https://jazz-on-dijon.fr/wp-content/uploads/2024/03/concert-2024-1.png
END:VEVENT
END:VCALENDAR