BEGIN:VCALENDAR
VERSION:2.0
PRODID:-//Jazz&#039;On - ECPv6.15.20//NONSGML v1.0//EN
CALSCALE:GREGORIAN
METHOD:PUBLISH
X-ORIGINAL-URL:https://jazz-on-dijon.fr
X-WR-CALDESC:Évènements pour Jazz&#039;On
REFRESH-INTERVAL;VALUE=DURATION:PT1H
X-Robots-Tag:noindex
X-PUBLISHED-TTL:PT1H
BEGIN:VTIMEZONE
TZID:Europe/Paris
BEGIN:DAYLIGHT
TZOFFSETFROM:+0100
TZOFFSETTO:+0200
TZNAME:CEST
DTSTART:20230326T010000
END:DAYLIGHT
BEGIN:STANDARD
TZOFFSETFROM:+0200
TZOFFSETTO:+0100
TZNAME:CET
DTSTART:20231029T010000
END:STANDARD
BEGIN:DAYLIGHT
TZOFFSETFROM:+0100
TZOFFSETTO:+0200
TZNAME:CEST
DTSTART:20240331T010000
END:DAYLIGHT
BEGIN:STANDARD
TZOFFSETFROM:+0200
TZOFFSETTO:+0100
TZNAME:CET
DTSTART:20241027T010000
END:STANDARD
BEGIN:DAYLIGHT
TZOFFSETFROM:+0100
TZOFFSETTO:+0200
TZNAME:CEST
DTSTART:20250330T010000
END:DAYLIGHT
BEGIN:STANDARD
TZOFFSETFROM:+0200
TZOFFSETTO:+0100
TZNAME:CET
DTSTART:20251026T010000
END:STANDARD
END:VTIMEZONE
BEGIN:VEVENT
DTSTART;TZID=Europe/Paris:20240717T190000
DTEND;TZID=Europe/Paris:20240717T203000
DTSTAMP:20260422T175355
CREATED:20240624T112208Z
LAST-MODIFIED:20240624T112550Z
UID:4025-1721242800-1721248200@jazz-on-dijon.fr
SUMMARY:TOURNEBOULE JAZZTET : D'JAZZ AU JARDIN MERCREDI 17 JUILLET
DESCRIPTION:Ce quartet propose une invitation au voyage avec des compositions originales. Leurs mélodies poétiques et enivrantes reflètent leurs énergies sur scène. La musicalité des musiciens est soulignée par une musique créative et leur envie de transmettre et de partager des moments d’émotion. \navec\nDaniel Lamia – saxophones\nLuc Bouhaben – batterie\nBernard Magnien – piano\nBenoît Lallemant – contrebasse
URL:https://jazz-on-dijon.fr/event/tourneboule-jazztet-djazz-au-jardin-mercredi-17-juillet/
LOCATION:jardins Darcy\, Pl. Darcy\, Dijon\, 21000\, France
CATEGORIES:Concert
ATTACH;FMTTYPE=image/jpeg:https://jazz-on-dijon.fr/wp-content/uploads/2024/06/tourneboule.jpg
END:VEVENT
END:VCALENDAR