BEGIN:VCALENDAR
VERSION:2.0
PRODID:-//Jazz&#039;On - ECPv6.15.20//NONSGML v1.0//EN
CALSCALE:GREGORIAN
METHOD:PUBLISH
X-ORIGINAL-URL:https://jazz-on-dijon.fr
X-WR-CALDESC:Évènements pour Jazz&#039;On
REFRESH-INTERVAL;VALUE=DURATION:PT1H
X-Robots-Tag:noindex
X-PUBLISHED-TTL:PT1H
BEGIN:VTIMEZONE
TZID:Europe/Paris
BEGIN:DAYLIGHT
TZOFFSETFROM:+0100
TZOFFSETTO:+0200
TZNAME:CEST
DTSTART:20230326T010000
END:DAYLIGHT
BEGIN:STANDARD
TZOFFSETFROM:+0200
TZOFFSETTO:+0100
TZNAME:CET
DTSTART:20231029T010000
END:STANDARD
BEGIN:DAYLIGHT
TZOFFSETFROM:+0100
TZOFFSETTO:+0200
TZNAME:CEST
DTSTART:20240331T010000
END:DAYLIGHT
BEGIN:STANDARD
TZOFFSETFROM:+0200
TZOFFSETTO:+0100
TZNAME:CET
DTSTART:20241027T010000
END:STANDARD
BEGIN:DAYLIGHT
TZOFFSETFROM:+0100
TZOFFSETTO:+0200
TZNAME:CEST
DTSTART:20250330T010000
END:DAYLIGHT
BEGIN:STANDARD
TZOFFSETFROM:+0200
TZOFFSETTO:+0100
TZNAME:CET
DTSTART:20251026T010000
END:STANDARD
END:VTIMEZONE
BEGIN:VEVENT
DTSTART;TZID=Europe/Paris:20240925T193000
DTEND;TZID=Europe/Paris:20240925T223000
DTSTAMP:20260422T153740
CREATED:20240923T203925Z
LAST-MODIFIED:20240923T205206Z
UID:4091-1727292600-1727303400@jazz-on-dijon.fr
SUMMARY:Soirée Jazz & Diner Arménien
DESCRIPTION:
URL:https://jazz-on-dijon.fr/event/soiree-jazz-diner-armenien/
LOCATION:Grange de Saulx\, 2 rue de Saulx\, Gilly les Citeaux\, 21640\, France
CATEGORIES:Concert
ATTACH;FMTTYPE=image/png:https://jazz-on-dijon.fr/wp-content/uploads/2024/09/Capture-decran-2024-09-23-a-22.36.39.png
END:VEVENT
END:VCALENDAR