BEGIN:VCALENDAR
VERSION:2.0
PRODID:-//Jazz&#039;On - ECPv6.15.20//NONSGML v1.0//EN
CALSCALE:GREGORIAN
METHOD:PUBLISH
X-ORIGINAL-URL:https://jazz-on-dijon.fr
X-WR-CALDESC:Évènements pour Jazz&#039;On
REFRESH-INTERVAL;VALUE=DURATION:PT1H
X-Robots-Tag:noindex
X-PUBLISHED-TTL:PT1H
BEGIN:VTIMEZONE
TZID:Europe/Paris
BEGIN:DAYLIGHT
TZOFFSETFROM:+0100
TZOFFSETTO:+0200
TZNAME:CEST
DTSTART:20230326T010000
END:DAYLIGHT
BEGIN:STANDARD
TZOFFSETFROM:+0200
TZOFFSETTO:+0100
TZNAME:CET
DTSTART:20231029T010000
END:STANDARD
BEGIN:DAYLIGHT
TZOFFSETFROM:+0100
TZOFFSETTO:+0200
TZNAME:CEST
DTSTART:20240331T010000
END:DAYLIGHT
BEGIN:STANDARD
TZOFFSETFROM:+0200
TZOFFSETTO:+0100
TZNAME:CET
DTSTART:20241027T010000
END:STANDARD
BEGIN:DAYLIGHT
TZOFFSETFROM:+0100
TZOFFSETTO:+0200
TZNAME:CEST
DTSTART:20250330T010000
END:DAYLIGHT
BEGIN:STANDARD
TZOFFSETFROM:+0200
TZOFFSETTO:+0100
TZNAME:CET
DTSTART:20251026T010000
END:STANDARD
END:VTIMEZONE
BEGIN:VEVENT
DTSTART;TZID=Europe/Paris:20241011T200000
DTEND;TZID=Europe/Paris:20241011T230000
DTSTAMP:20260422T142108
CREATED:20241010T112403Z
LAST-MODIFIED:20241010T112548Z
UID:4281-1728676800-1728687600@jazz-on-dijon.fr
SUMMARY:Olivier Temime en concert au Hot Jazz Club
DESCRIPTION:Après le succès de l’album Inner Songs publié l’année dernière\, Olivier Temime nous présente son nouveau projet en trio avec ses deux compères de très longue date\, Emmanuel Bex et Simon Goubert. \nEn concert au Hot Jazz Club de Lyon \n 
URL:https://jazz-on-dijon.fr/event/olivier-temime-en-concert-au-hot-jazz-club/
LOCATION:Hot Jazz Club\, 26 rue Lanterne - 1er Arr\, Lyon\, 69001\, France
CATEGORIES:Concert
ATTACH;FMTTYPE=image/jpeg:https://jazz-on-dijon.fr/wp-content/uploads/2024/10/Olivier-Temime-1-c-Martin-Trillaud-small.jpg
ORGANIZER;CN="Hot Jazz Club":MAILTO:contact@hotclubjazzlyon.com
END:VEVENT
END:VCALENDAR