BEGIN:VCALENDAR
VERSION:2.0
PRODID:-//Jazz&#039;On - ECPv6.15.20//NONSGML v1.0//EN
CALSCALE:GREGORIAN
METHOD:PUBLISH
X-ORIGINAL-URL:https://jazz-on-dijon.fr
X-WR-CALDESC:Évènements pour Jazz&#039;On
REFRESH-INTERVAL;VALUE=DURATION:PT1H
X-Robots-Tag:noindex
X-PUBLISHED-TTL:PT1H
BEGIN:VTIMEZONE
TZID:Europe/Paris
BEGIN:DAYLIGHT
TZOFFSETFROM:+0100
TZOFFSETTO:+0200
TZNAME:CEST
DTSTART:20230326T010000
END:DAYLIGHT
BEGIN:STANDARD
TZOFFSETFROM:+0200
TZOFFSETTO:+0100
TZNAME:CET
DTSTART:20231029T010000
END:STANDARD
BEGIN:DAYLIGHT
TZOFFSETFROM:+0100
TZOFFSETTO:+0200
TZNAME:CEST
DTSTART:20240331T010000
END:DAYLIGHT
BEGIN:STANDARD
TZOFFSETFROM:+0200
TZOFFSETTO:+0100
TZNAME:CET
DTSTART:20241027T010000
END:STANDARD
BEGIN:DAYLIGHT
TZOFFSETFROM:+0100
TZOFFSETTO:+0200
TZNAME:CEST
DTSTART:20250330T010000
END:DAYLIGHT
BEGIN:STANDARD
TZOFFSETFROM:+0200
TZOFFSETTO:+0100
TZNAME:CET
DTSTART:20251026T010000
END:STANDARD
END:VTIMEZONE
BEGIN:VEVENT
DTSTART;TZID=Europe/Paris:20241017T203000
DTEND;TZID=Europe/Paris:20241017T230000
DTSTAMP:20260422T142015
CREATED:20241014T163408Z
LAST-MODIFIED:20241014T163408Z
UID:4425-1729197000-1729206000@jazz-on-dijon.fr
SUMMARY:La nouvelle saison D'Jazz Kabaret s'ouvre à La Vapeur avec Sélène Saint-Aimé trio
DESCRIPTION:Sélène Saint-Aimé\, contrebassiste\, chanteuse et poétesse\, est la révélation fulgurante de la scène jazz française. \n\nSon premier album\, Mare Undarum\, a marqué les esprits par son audace et son inventivité. Formée à New York sous la tutelle du légendaire Steve Coleman\, elle a côtoyé des géants comme Ron Carter et Ravi Coltrane avant de tracer sa propre route.\nMarquée par sa culture créole\, Sélène Saint-Aimé invente avec ses deux comparses\, un univers lyrique et mélodique qui jaillit comme une mer d’ondes savamment structurée\, pulsée de rythmes caribéens\, zébrée d’improvisations lyriques et traversée de textes poétiques parlés et chantés. \n| Line up |\nSélène Saint-Aimé contrebasse\, chant et poésie\nRafael Aguila saxophone\nBarbaro Crespo aka Machito percussions
URL:https://jazz-on-dijon.fr/event/la-nouvelle-saison-djazz-kabaret-souvre-a-la-vapeur-avec-selene-saint-aime-trio/
LOCATION:La Vapeur\, 42 avenue de Stalingrad\, Dijon\, 21000\, France
CATEGORIES:Concert
ATTACH;FMTTYPE=image/jpeg:https://jazz-on-dijon.fr/wp-content/uploads/2024/10/web_selenesaintaime.jpg
END:VEVENT
END:VCALENDAR