BEGIN:VCALENDAR
VERSION:2.0
PRODID:-//Jazz&#039;On - ECPv6.15.20//NONSGML v1.0//EN
CALSCALE:GREGORIAN
METHOD:PUBLISH
X-WR-CALNAME:Jazz&#039;On
X-ORIGINAL-URL:https://jazz-on-dijon.fr
X-WR-CALDESC:Évènements pour Jazz&#039;On
REFRESH-INTERVAL;VALUE=DURATION:PT1H
X-Robots-Tag:noindex
X-PUBLISHED-TTL:PT1H
BEGIN:VTIMEZONE
TZID:Europe/Paris
BEGIN:DAYLIGHT
TZOFFSETFROM:+0100
TZOFFSETTO:+0200
TZNAME:CEST
DTSTART:20230326T010000
END:DAYLIGHT
BEGIN:STANDARD
TZOFFSETFROM:+0200
TZOFFSETTO:+0100
TZNAME:CET
DTSTART:20231029T010000
END:STANDARD
BEGIN:DAYLIGHT
TZOFFSETFROM:+0100
TZOFFSETTO:+0200
TZNAME:CEST
DTSTART:20240331T010000
END:DAYLIGHT
BEGIN:STANDARD
TZOFFSETFROM:+0200
TZOFFSETTO:+0100
TZNAME:CET
DTSTART:20241027T010000
END:STANDARD
BEGIN:DAYLIGHT
TZOFFSETFROM:+0100
TZOFFSETTO:+0200
TZNAME:CEST
DTSTART:20250330T010000
END:DAYLIGHT
BEGIN:STANDARD
TZOFFSETFROM:+0200
TZOFFSETTO:+0100
TZNAME:CET
DTSTART:20251026T010000
END:STANDARD
END:VTIMEZONE
BEGIN:VEVENT
DTSTART;TZID=Europe/Paris:20241019T203000
DTEND;TZID=Europe/Paris:20241019T223000
DTSTAMP:20260422T141714
CREATED:20240924T171324Z
LAST-MODIFIED:20240924T171324Z
UID:4114-1729369800-1729377000@jazz-on-dijon.fr
SUMMARY:Concert “An evening with the blues”
DESCRIPTION:Avec son groove inimitable\, ses propres compos et ses interprétations de grands standards de blues\, AFTER MIDNIGHT le power trio dijonnais présent sur les scènes françaises depuis plus de dix ans\, est heureux de vous retrouver pour partager une soirée autour du blues\, funk and soul. \nAvec en première partie CAPS & CO\, le collectif blues dijonnais issu des Combos Blues de l’Ecole de Jazz dijonnais Jazz’On. \nVente des billets à partir du 1er octobre 2024 : \n– à L’Escale : \nles mardis de 14h à 18h\, les mercredis de 10h à 12h30 et de 14h à 18h\, les jeudis et vendredis de 9h à 12h et de 14h à 18h\, les samedis de 10h à 12h30 \n– à l’entrée du concert en fonction des places disponibles. \nRenseignements au 03 80 44 60 30. \nPlein tarif : 7 €\, tarif réduit : 4 € (étudiants – personnes à la recherche d’un emploi et personnes âgées de moins de 18 ans ou de plus de 65 ans).
URL:https://jazz-on-dijon.fr/event/concert-an-evening-with-the-blues/
LOCATION:L’Escale – Salle Jean Gabin\, 1 Place Abbé Pierre\, Talant\, 21240\, France
CATEGORIES:Concert
ATTACH;FMTTYPE=image/jpeg:https://jazz-on-dijon.fr/wp-content/uploads/2024/09/Affiche-AN-EVENING-WITH-THE-BLUES.jpg
END:VEVENT
END:VCALENDAR