BEGIN:VCALENDAR
VERSION:2.0
PRODID:-//Jazz&#039;On - ECPv6.15.20//NONSGML v1.0//EN
CALSCALE:GREGORIAN
METHOD:PUBLISH
X-ORIGINAL-URL:https://jazz-on-dijon.fr
X-WR-CALDESC:Évènements pour Jazz&#039;On
REFRESH-INTERVAL;VALUE=DURATION:PT1H
X-Robots-Tag:noindex
X-PUBLISHED-TTL:PT1H
BEGIN:VTIMEZONE
TZID:Europe/Paris
BEGIN:DAYLIGHT
TZOFFSETFROM:+0100
TZOFFSETTO:+0200
TZNAME:CEST
DTSTART:20230326T010000
END:DAYLIGHT
BEGIN:STANDARD
TZOFFSETFROM:+0200
TZOFFSETTO:+0100
TZNAME:CET
DTSTART:20231029T010000
END:STANDARD
BEGIN:DAYLIGHT
TZOFFSETFROM:+0100
TZOFFSETTO:+0200
TZNAME:CEST
DTSTART:20240331T010000
END:DAYLIGHT
BEGIN:STANDARD
TZOFFSETFROM:+0200
TZOFFSETTO:+0100
TZNAME:CET
DTSTART:20241027T010000
END:STANDARD
BEGIN:DAYLIGHT
TZOFFSETFROM:+0100
TZOFFSETTO:+0200
TZNAME:CEST
DTSTART:20250330T010000
END:DAYLIGHT
BEGIN:STANDARD
TZOFFSETFROM:+0200
TZOFFSETTO:+0100
TZNAME:CET
DTSTART:20251026T010000
END:STANDARD
END:VTIMEZONE
BEGIN:VEVENT
DTSTART;TZID=Europe/Paris:20241123T170000
DTEND;TZID=Europe/Paris:20241123T233000
DTSTAMP:20260422T131242
CREATED:20241026T163731Z
LAST-MODIFIED:20241111T203616Z
UID:4437-1732381200-1732404600@jazz-on-dijon.fr
SUMMARY:Boeuf Jazz'On The Rezo ouvert à tous
DESCRIPTION:1ere Jam Session de la saison Jazz ‘On + RezoFêtArt – Une Soirée Unique ! \nAmateurs de jazz\, de blues\, musiciens passionnés ou simplement curieux ? Vous êtes tous invités à une Jam Session inoubliable !\nVenez vivre une expérience musicale où l’improvisation est reine ! Rejoignez-nous pour une soirée où les musiciens de la scène locale et des invités surprises fusionneront leur créativité et leur énergie pour vous offrir des moments musicaux magiques. \nTélécharger la setlist des morceaux proposés : \nSetlist Boeuf 2024-11-23 \nInscrivez-vous pour réserver votre place\, en cliquant sur le bouton ci-dessous\, c’est gratuit !
URL:https://jazz-on-dijon.fr/event/boeuf-jazzon-the-rezo-ouvert-a-tous/
LOCATION:Rézo’Fêt’Art\, 78 quai Nicolas Rolin\, Dijon\, Bourgogne\, 21000\, France
CATEGORIES:Boeuf
ATTACH;FMTTYPE=image/png:https://jazz-on-dijon.fr/wp-content/uploads/2024/10/vignette-Hello-Asso-Boeuf.png
END:VEVENT
END:VCALENDAR