BEGIN:VCALENDAR
VERSION:2.0
PRODID:-//Jazz&#039;On - ECPv6.15.20//NONSGML v1.0//EN
CALSCALE:GREGORIAN
METHOD:PUBLISH
X-ORIGINAL-URL:https://jazz-on-dijon.fr
X-WR-CALDESC:Évènements pour Jazz&#039;On
REFRESH-INTERVAL;VALUE=DURATION:PT1H
X-Robots-Tag:noindex
X-PUBLISHED-TTL:PT1H
BEGIN:VTIMEZONE
TZID:Europe/Paris
BEGIN:DAYLIGHT
TZOFFSETFROM:+0100
TZOFFSETTO:+0200
TZNAME:CEST
DTSTART:20230326T010000
END:DAYLIGHT
BEGIN:STANDARD
TZOFFSETFROM:+0200
TZOFFSETTO:+0100
TZNAME:CET
DTSTART:20231029T010000
END:STANDARD
BEGIN:DAYLIGHT
TZOFFSETFROM:+0100
TZOFFSETTO:+0200
TZNAME:CEST
DTSTART:20240331T010000
END:DAYLIGHT
BEGIN:STANDARD
TZOFFSETFROM:+0200
TZOFFSETTO:+0100
TZNAME:CET
DTSTART:20241027T010000
END:STANDARD
BEGIN:DAYLIGHT
TZOFFSETFROM:+0100
TZOFFSETTO:+0200
TZNAME:CEST
DTSTART:20250330T010000
END:DAYLIGHT
BEGIN:STANDARD
TZOFFSETFROM:+0200
TZOFFSETTO:+0100
TZNAME:CET
DTSTART:20251026T010000
END:STANDARD
END:VTIMEZONE
BEGIN:VEVENT
DTSTART;TZID=Europe/Paris:20241203T181500
DTEND;TZID=Europe/Paris:20241203T230000
DTSTAMP:20260422T115248
CREATED:20241202T193120Z
LAST-MODIFIED:20241202T193930Z
UID:4589-1733249700-1733266800@jazz-on-dijon.fr
SUMMARY:Mise en Situation Pédagogique #1 - Le Crusoë
DESCRIPTION:Cet événement est réservé aux élèves de l’école. \nSoundcheck à partir de 18h15 sur la scène du Crusoë \nFilage Choeur et Chorale à 18h30 \nCette MSP sera précédée par l’Assemblée Générale de notre association à partir de 19h et se terminera par un moment de convivialité. \nJazz’On MSP#1 03.12.24 Timing et Programme
URL:https://jazz-on-dijon.fr/event/mise-en-situation-pedagogique-1-le-crusoe/
LOCATION:Le Crusoë\, 168\, rue de Longvic\, Dijon\, Bourgogne\, 21000\, France
CATEGORIES:Mise en Situation
ATTACH;FMTTYPE=image/png:https://jazz-on-dijon.fr/wp-content/uploads/2024/12/MSP-1-Web.png
END:VEVENT
END:VCALENDAR