BEGIN:VCALENDAR
VERSION:2.0
PRODID:-//Jazz&#039;On - ECPv6.15.20//NONSGML v1.0//EN
CALSCALE:GREGORIAN
METHOD:PUBLISH
X-ORIGINAL-URL:https://jazz-on-dijon.fr
X-WR-CALDESC:Évènements pour Jazz&#039;On
REFRESH-INTERVAL;VALUE=DURATION:PT1H
X-Robots-Tag:noindex
X-PUBLISHED-TTL:PT1H
BEGIN:VTIMEZONE
TZID:Europe/Paris
BEGIN:DAYLIGHT
TZOFFSETFROM:+0100
TZOFFSETTO:+0200
TZNAME:CEST
DTSTART:20230326T010000
END:DAYLIGHT
BEGIN:STANDARD
TZOFFSETFROM:+0200
TZOFFSETTO:+0100
TZNAME:CET
DTSTART:20231029T010000
END:STANDARD
BEGIN:DAYLIGHT
TZOFFSETFROM:+0100
TZOFFSETTO:+0200
TZNAME:CEST
DTSTART:20240331T010000
END:DAYLIGHT
BEGIN:STANDARD
TZOFFSETFROM:+0200
TZOFFSETTO:+0100
TZNAME:CET
DTSTART:20241027T010000
END:STANDARD
BEGIN:DAYLIGHT
TZOFFSETFROM:+0100
TZOFFSETTO:+0200
TZNAME:CEST
DTSTART:20250330T010000
END:DAYLIGHT
BEGIN:STANDARD
TZOFFSETFROM:+0200
TZOFFSETTO:+0100
TZNAME:CET
DTSTART:20251026T010000
END:STANDARD
END:VTIMEZONE
BEGIN:VEVENT
DTSTART;TZID=Europe/Paris:20241219T200000
DTEND;TZID=Europe/Paris:20241219T233000
DTSTAMP:20260422T115251
CREATED:20241215T094815Z
LAST-MODIFIED:20241215T095737Z
UID:4601-1734638400-1734651000@jazz-on-dijon.fr
SUMMARY:Boeuf Jazz Modern à la Vapeur avec Martial Henzelin\, Daniel Lamia et Jean Michel Bove
DESCRIPTION:Après avoir enregistré 7 albums jazz et chansons\, le 8eme album de Martial Henzelin\, intitulé “Constellation” arrive en cette fin d’année 2024. \n  \nÀ Paris pendant 18 ans\, en jouant et enregistrant\, avec nombre de musicien·nes et chanteur·euses comme Idrissa Diop\, Rido Bayonne\, Paco Seri\, Birelli Lagrene\, Shanna Waterstown\, Suzy Randria\, Yolande Rodriguez\, Ray Baretto\, Liane Foly\, Zanini\, Segan\, Linda lee Hopkins\, Emmanuelle Rey\, Brenda Hervé\, Vincent Artaud et beaucoup d’autres… Et bien sûr\, nombre de musicien·nes en province. \n  \nCe nouvel album contient un jazz résolument plus moderne et plus modal avec plusieurs invités\, à la fois soft et dynamique . \n  \nAvec : Martial Henzelin : claviers/chant/compositions\, Yolande Rodriguez : chant\, Jean Louis Forêt : basse\, Jean Michel Bove : batterie + guests Daniel Lamia
URL:https://jazz-on-dijon.fr/event/boeuf-jazz-modern-a-la-vapeur-avec-martial-henzelin-daniel-lamia-et-jean-michel-bove/
LOCATION:La Vapeur\, 42 avenue de Stalingrad\, Dijon\, 21000\, France
CATEGORIES:Boeuf
ATTACH;FMTTYPE=image/jpeg:https://jazz-on-dijon.fr/wp-content/uploads/2024/12/467718560_972495774912468_2609577756571548302_n.jpg
ORGANIZER;CN="Association Vaporetto":MAILTO:boeuf.vaporetto@laposte.net
END:VEVENT
END:VCALENDAR