BEGIN:VCALENDAR
VERSION:2.0
PRODID:-//Jazz&#039;On - ECPv6.15.20//NONSGML v1.0//EN
CALSCALE:GREGORIAN
METHOD:PUBLISH
X-ORIGINAL-URL:https://jazz-on-dijon.fr
X-WR-CALDESC:Évènements pour Jazz&#039;On
REFRESH-INTERVAL;VALUE=DURATION:PT1H
X-Robots-Tag:noindex
X-PUBLISHED-TTL:PT1H
BEGIN:VTIMEZONE
TZID:Europe/Paris
BEGIN:DAYLIGHT
TZOFFSETFROM:+0100
TZOFFSETTO:+0200
TZNAME:CEST
DTSTART:20240331T010000
END:DAYLIGHT
BEGIN:STANDARD
TZOFFSETFROM:+0200
TZOFFSETTO:+0100
TZNAME:CET
DTSTART:20241027T010000
END:STANDARD
BEGIN:DAYLIGHT
TZOFFSETFROM:+0100
TZOFFSETTO:+0200
TZNAME:CEST
DTSTART:20250330T010000
END:DAYLIGHT
BEGIN:STANDARD
TZOFFSETFROM:+0200
TZOFFSETTO:+0100
TZNAME:CET
DTSTART:20251026T010000
END:STANDARD
BEGIN:DAYLIGHT
TZOFFSETFROM:+0100
TZOFFSETTO:+0200
TZNAME:CEST
DTSTART:20260329T010000
END:DAYLIGHT
BEGIN:STANDARD
TZOFFSETFROM:+0200
TZOFFSETTO:+0100
TZNAME:CET
DTSTART:20261025T010000
END:STANDARD
END:VTIMEZONE
BEGIN:VEVENT
DTSTART;TZID=Europe/Paris:20250211T200000
DTEND;TZID=Europe/Paris:20250211T230000
DTSTAMP:20260420T113950
CREATED:20250209T102754Z
LAST-MODIFIED:20250209T103216Z
UID:4619-1739304000-1739314800@jazz-on-dijon.fr
SUMMARY:Mise en Situation Pédagogique #2 Le Crusoë
DESCRIPTION:La deuxième séquence de l’année se clôture comme de coutume par une mise en situation pédagogique le mardi 11 février à partir de 19H30\, dans la salle de spectacle du restaurant Le Crusoë. \nL’occasion pour tous les élèves de Jazz’On de jouer en public dans des conditions professionnelles d’un concert\, avec un ingénieur du son qui nous partagera son expérience de la scène et de la sonorisation live. \nLes 11 groupes de Jazz’On se produiront successivement (voir timing ci-dessous) et la soirée s’achèvera par un moment de convivialité ou chacun apporte sa contribution. \n 
URL:https://jazz-on-dijon.fr/event/mise-en-situation-pedagogique-2-le-crusoe/
LOCATION:Le Crusoë\, 168\, rue de Longvic\, Dijon\, Bourgogne\, 21000\, France
CATEGORIES:Mise en Situation
END:VEVENT
END:VCALENDAR