BEGIN:VCALENDAR
VERSION:2.0
PRODID:-//Jazz&#039;On - ECPv6.15.20//NONSGML v1.0//EN
CALSCALE:GREGORIAN
METHOD:PUBLISH
X-ORIGINAL-URL:https://jazz-on-dijon.fr
X-WR-CALDESC:Évènements pour Jazz&#039;On
REFRESH-INTERVAL;VALUE=DURATION:PT1H
X-Robots-Tag:noindex
X-PUBLISHED-TTL:PT1H
BEGIN:VTIMEZONE
TZID:Europe/Paris
BEGIN:DAYLIGHT
TZOFFSETFROM:+0100
TZOFFSETTO:+0200
TZNAME:CEST
DTSTART:20240331T010000
END:DAYLIGHT
BEGIN:STANDARD
TZOFFSETFROM:+0200
TZOFFSETTO:+0100
TZNAME:CET
DTSTART:20241027T010000
END:STANDARD
BEGIN:DAYLIGHT
TZOFFSETFROM:+0100
TZOFFSETTO:+0200
TZNAME:CEST
DTSTART:20250330T010000
END:DAYLIGHT
BEGIN:STANDARD
TZOFFSETFROM:+0200
TZOFFSETTO:+0100
TZNAME:CET
DTSTART:20251026T010000
END:STANDARD
BEGIN:DAYLIGHT
TZOFFSETFROM:+0100
TZOFFSETTO:+0200
TZNAME:CEST
DTSTART:20260329T010000
END:DAYLIGHT
BEGIN:STANDARD
TZOFFSETFROM:+0200
TZOFFSETTO:+0100
TZNAME:CET
DTSTART:20261025T010000
END:STANDARD
END:VTIMEZONE
BEGIN:VEVENT
DTSTART;TZID=Europe/Paris:20250415T193000
DTEND;TZID=Europe/Paris:20250415T230000
DTSTAMP:20260420T115145
CREATED:20250410T153735Z
LAST-MODIFIED:20250410T175857Z
UID:4660-1744745400-1744758000@jazz-on-dijon.fr
SUMMARY:Mise en Situation Pédagogique #3 mardi 15 avril 2025
DESCRIPTION:Vous pouvez télécharger  le planning  et le programme de notre dernière MSP avant le concert du Crusoé le vendredi 13 juin prochain.\n\nComme d’habitude on se retrouve autour d’un verre (pensez à apporter vos gobelets SVP) après le concert.\n\nTiming : \nJazz’On_MSP#3_15.04.25 \nProgramme : \nPRG_MSP#3_15.04.25 \nCet évènement est réservé aux élèves de Jazz’On.
URL:https://jazz-on-dijon.fr/event/mise-en-situation-pedagogique/
LOCATION:Le Crusoë\, 168\, rue de Longvic\, Dijon\, Bourgogne\, 21000\, France
CATEGORIES:Mise en Situation
ATTACH;FMTTYPE=image/png:https://jazz-on-dijon.fr/wp-content/uploads/2025/04/MSP-1-Insta-2.png
END:VEVENT
END:VCALENDAR