BEGIN:VCALENDAR
VERSION:2.0
PRODID:-//Jazz&#039;On - ECPv6.15.20//NONSGML v1.0//EN
CALSCALE:GREGORIAN
METHOD:PUBLISH
X-WR-CALNAME:Jazz&#039;On
X-ORIGINAL-URL:https://jazz-on-dijon.fr
X-WR-CALDESC:Évènements pour Jazz&#039;On
REFRESH-INTERVAL;VALUE=DURATION:PT1H
X-Robots-Tag:noindex
X-PUBLISHED-TTL:PT1H
BEGIN:VTIMEZONE
TZID:Europe/Paris
BEGIN:DAYLIGHT
TZOFFSETFROM:+0100
TZOFFSETTO:+0200
TZNAME:CEST
DTSTART:20230326T010000
END:DAYLIGHT
BEGIN:STANDARD
TZOFFSETFROM:+0200
TZOFFSETTO:+0100
TZNAME:CET
DTSTART:20231029T010000
END:STANDARD
BEGIN:DAYLIGHT
TZOFFSETFROM:+0100
TZOFFSETTO:+0200
TZNAME:CEST
DTSTART:20240331T010000
END:DAYLIGHT
BEGIN:STANDARD
TZOFFSETFROM:+0200
TZOFFSETTO:+0100
TZNAME:CET
DTSTART:20241027T010000
END:STANDARD
BEGIN:DAYLIGHT
TZOFFSETFROM:+0100
TZOFFSETTO:+0200
TZNAME:CEST
DTSTART:20250330T010000
END:DAYLIGHT
BEGIN:STANDARD
TZOFFSETFROM:+0200
TZOFFSETTO:+0100
TZNAME:CET
DTSTART:20251026T010000
END:STANDARD
END:VTIMEZONE
BEGIN:VEVENT
DTSTART;TZID=Europe/Paris:20240208T193000
DTEND;TZID=Europe/Paris:20240208T233000
DTSTAMP:20260422T222713
CREATED:20240313T163653Z
LAST-MODIFIED:20240313T174540Z
UID:3337-1707420600-1707435000@jazz-on-dijon.fr
SUMMARY:Nuevo Project Quintet
DESCRIPTION:Marc Esposito\, professeur de guitare à Jazz’on\, jouera en concert le jeudi 8 février (19h30) à La Dame d’Aquitaine avec le Nuevo Project Quintet. \nProgramme musical axé autour du tango avec une large place faite au maître\, Astor Piazzolla. \nSoirée dîner / concert : La Dame d’Aquitaine vous proposera un menu (+ concert) à 55€ hors boisson.
URL:https://jazz-on-dijon.fr/event/nuevo-project-quintet/
LOCATION:La Dame d’Aquitaine\, 23 Place Bossuet\, Dijon\, Bourgogne\, 21000\, France
CATEGORIES:Concert
ATTACH;FMTTYPE=image/png:https://jazz-on-dijon.fr/wp-content/uploads/2024/03/nuevo-projets-16-9.png
ORGANIZER;CN="La Dame d'Aquitaine":MAILTO:dame.aquitaine@wanadoo.fr
END:VEVENT
BEGIN:VEVENT
DTSTART;TZID=Europe/Paris:20240213T181500
DTEND;TZID=Europe/Paris:20240213T231500
DTSTAMP:20260422T222713
CREATED:20240313T162108Z
LAST-MODIFIED:20240313T175320Z
UID:3332-1707848100-1707866100@jazz-on-dijon.fr
SUMMARY:Mise en Situation Pédagique #2 - Le Crusoë
DESCRIPTION:Cet événement est réservé aux élèves de l’école.\nSoundcheck à partir de 18h15 sur la scène du Crusoë \nMSP#2 13-02-24 Programme et Timing
URL:https://jazz-on-dijon.fr/event/mise-en-situation-pedagique-2-le-crusoe/
LOCATION:Le Crusoë\, 168\, rue de Longvic\, Dijon\, Bourgogne\, 21000\, France
CATEGORIES:Mise en Situation
ATTACH;FMTTYPE=image/png:https://jazz-on-dijon.fr/wp-content/uploads/2024/03/MSP2-16-9.png
END:VEVENT
END:VCALENDAR