BEGIN:VCALENDAR
VERSION:2.0
PRODID:-//Jazz&#039;On - ECPv6.15.20//NONSGML v1.0//EN
CALSCALE:GREGORIAN
METHOD:PUBLISH
X-ORIGINAL-URL:https://jazz-on-dijon.fr
X-WR-CALDESC:Évènements pour Jazz&#039;On
REFRESH-INTERVAL;VALUE=DURATION:PT1H
X-Robots-Tag:noindex
X-PUBLISHED-TTL:PT1H
BEGIN:VTIMEZONE
TZID:Europe/Paris
BEGIN:DAYLIGHT
TZOFFSETFROM:+0100
TZOFFSETTO:+0200
TZNAME:CEST
DTSTART:20230326T010000
END:DAYLIGHT
BEGIN:STANDARD
TZOFFSETFROM:+0200
TZOFFSETTO:+0100
TZNAME:CET
DTSTART:20231029T010000
END:STANDARD
BEGIN:DAYLIGHT
TZOFFSETFROM:+0100
TZOFFSETTO:+0200
TZNAME:CEST
DTSTART:20240331T010000
END:DAYLIGHT
BEGIN:STANDARD
TZOFFSETFROM:+0200
TZOFFSETTO:+0100
TZNAME:CET
DTSTART:20241027T010000
END:STANDARD
BEGIN:DAYLIGHT
TZOFFSETFROM:+0100
TZOFFSETTO:+0200
TZNAME:CEST
DTSTART:20250330T010000
END:DAYLIGHT
BEGIN:STANDARD
TZOFFSETFROM:+0200
TZOFFSETTO:+0100
TZNAME:CET
DTSTART:20251026T010000
END:STANDARD
END:VTIMEZONE
BEGIN:VEVENT
DTSTART;TZID=Europe/Paris:20240404T203000
DTEND;TZID=Europe/Paris:20240404T233000
DTSTAMP:20260422T200602
CREATED:20240328T100453Z
LAST-MODIFIED:20240328T103011Z
UID:3807-1712262600-1712273400@jazz-on-dijon.fr
SUMMARY:Steam Quartet : Boeuf Jazz à la Vapeur le jeudi 4 Avril 2024
DESCRIPTION:L’association Vaporetto et La Vapeur vous invitent à un Bœuf Jazz\,\nLe Jeudi 04 avril 2024\, à 20h30 ouverture des portes 20h00\n42\, av de Stalingrad 21000 Dijon\nL’entrée est libre.\nLa soirée sera animée par le groupe «Steam Quartet».\nQuartet de jazz dijonnais avec plus de 20 ans d’expérience\, organisateur des Boeufs de Vaporetto depuis 18 ans ;\nSteam Quartet jouera quelques compositions originales ainsi que des standards ou hymnes revisités à sa façon et proposera aux musiciens présents de les rejoindre sur scène pour un Boeuf (ou Jam session) endiablé.\nMusiciens :\nSaxophone : Philippe Sondey\nBatterie : Christian Richard\nClaviers : Reda Zerkaoui\nBasse : Benoît Broussolle\nVoici quelques titres pour commencer le bœuf :\n– Cantaloupe(Fm): Herbie Hancock\n– Blue Bossa (Cm): Kenny Dorham\n– Turnarround (C7): Ornette Coleman\n– Minor swing (Am) : Django Rheinhardt\n– Sunny (Am) : Bobby Herb\n– Cold duck Time (F7) : Eddie Harris\n– Song For My Father (Fm): H. Silver\n– Footprints (Cm): Wayne Shorter\n– All Blues (G7) : Miles Davis\n– Night and Day (Dm): Cole Porter\nou encore\n– How High The Moon (GMaj): Morgan Lewis\n– Why don’t you do right (Dm): Joe Mc Coy\n– Blue Monk (Bb) : T. Monk\n– Straight No Chaser (F) T. Monk\n– Watermelon Man (F7): Herbie Hancock\n– My Little Boat (GMaj): Roberto Menescal\n– So What (D-7) : Miles Davis\n– There will be another you (Eb) Dexer Gordon\n– The Chiken (Bb): Pee Wee Ellis\n– Chameleon (Bb-7) Herbie Hancock\n– St Thomas (C) Sonny Rollins
URL:https://jazz-on-dijon.fr/event/steam-quartet-boeuf-jazz-a-la-vapeur-le-jeudi-4-avril-2024/
LOCATION:La Vapeur\, 42 avenue de Stalingrad\, Dijon\, 21000\, France
ATTACH;FMTTYPE=image/png:https://jazz-on-dijon.fr/wp-content/uploads/2024/03/boeuf-la-vapeur-04-04-2024-1.png
ORGANIZER;CN="Association Vaporetto":MAILTO:boeuf.vaporetto@laposte.net
END:VEVENT
BEGIN:VEVENT
DTSTART;TZID=Europe/Paris:20240406T203000
DTEND;TZID=Europe/Paris:20240406T223000
DTSTAMP:20260422T200602
CREATED:20240330T112608Z
LAST-MODIFIED:20240330T113045Z
UID:3816-1712435400-1712442600@jazz-on-dijon.fr
SUMMARY:Opus\, la comédie musicale improvisée\, à Talant
DESCRIPTION:La Chouette Clairette présente :  Opus \, la comédie musicale improvisée. \nIls et elles sont musicien.ne.s\, comedien.ne.s\, ils et elles vont jouer\, chanter et danser\, et n’ont appris ni musique\, ni dialogues\, ni mise en scène\, ni chorégraphies… Bref\, ils et elles vont TOUT improviser !\nOPUS après opus\, chaque représentation de comédie musicale se crée dans l’instant\, dans une harmonie de chansons\, de thèmes musicaux aux styles variés et de scènes théâtrales tour à tour drôles\, enjouées\, poignantes\, poétiques… \nClaire-Marie Bellon\nPierre-Alain Truan\nSétigui Coulibaly\nGaël Giraudet\nSonia Panzani\nÉdouard Waminya\nSébastien Vaivrand\nMarc Esposito\nCédric Dallé \n 
URL:https://jazz-on-dijon.fr/event/opus-la-comedie-musicale-improvisee-a-talant/
LOCATION:Espace Georges Brassens\, 1 place Abbé Pierre\, Talant\, France
CATEGORIES:Comédie Musicale
ATTACH;FMTTYPE=image/png:https://jazz-on-dijon.fr/wp-content/uploads/2024/03/opus-16x9-1.png
END:VEVENT
BEGIN:VEVENT
DTSTART;TZID=Europe/Paris:20240407T100000
DTEND;TZID=Europe/Paris:20240407T170000
DTSTAMP:20260422T200602
CREATED:20240313T211350Z
LAST-MODIFIED:20240313T211724Z
UID:3369-1712484000-1712509200@jazz-on-dijon.fr
SUMMARY:Foire aux Disques
DESCRIPTION:FOIRE AUX DISQUES 2024 – Dimanche 7 Avril 2024 \nSalle Saint-Exupéry à L’ECRIN – Talant\nDe 10h00 à 17h00\nEntrée 2€ et gratuit aux -16 ans
URL:https://jazz-on-dijon.fr/event/foire-aux-disques/
LOCATION:L’Ecrin\, Rond point de l'Europe\, Talant\, 21240\, France
CATEGORIES:Foire aux disques
ATTACH;FMTTYPE=image/png:https://jazz-on-dijon.fr/wp-content/uploads/2024/03/vinyl-talant-16-9.png
END:VEVENT
END:VCALENDAR