BEGIN:VCALENDAR
VERSION:2.0
PRODID:-//Jazz&#039;On - ECPv6.15.20//NONSGML v1.0//EN
CALSCALE:GREGORIAN
METHOD:PUBLISH
X-WR-CALNAME:Jazz&#039;On
X-ORIGINAL-URL:https://jazz-on-dijon.fr
X-WR-CALDESC:Évènements pour Jazz&#039;On
REFRESH-INTERVAL;VALUE=DURATION:PT1H
X-Robots-Tag:noindex
X-PUBLISHED-TTL:PT1H
BEGIN:VTIMEZONE
TZID:Europe/Paris
BEGIN:DAYLIGHT
TZOFFSETFROM:+0100
TZOFFSETTO:+0200
TZNAME:CEST
DTSTART:20230326T010000
END:DAYLIGHT
BEGIN:STANDARD
TZOFFSETFROM:+0200
TZOFFSETTO:+0100
TZNAME:CET
DTSTART:20231029T010000
END:STANDARD
BEGIN:DAYLIGHT
TZOFFSETFROM:+0100
TZOFFSETTO:+0200
TZNAME:CEST
DTSTART:20240331T010000
END:DAYLIGHT
BEGIN:STANDARD
TZOFFSETFROM:+0200
TZOFFSETTO:+0100
TZNAME:CET
DTSTART:20241027T010000
END:STANDARD
BEGIN:DAYLIGHT
TZOFFSETFROM:+0100
TZOFFSETTO:+0200
TZNAME:CEST
DTSTART:20250330T010000
END:DAYLIGHT
BEGIN:STANDARD
TZOFFSETFROM:+0200
TZOFFSETTO:+0100
TZNAME:CET
DTSTART:20251026T010000
END:STANDARD
END:VTIMEZONE
BEGIN:VEVENT
DTSTART;TZID=Europe/Paris:20240910T200000
DTEND;TZID=Europe/Paris:20240910T210000
DTSTAMP:20260422T141701
CREATED:20240813T171620Z
LAST-MODIFIED:20240823T193126Z
UID:4045-1725998400-1726002000@jazz-on-dijon.fr
SUMMARY:Réunion de Rentrée + Mini Concert Gratuit
DESCRIPTION:Réunion d’information avec les professeurs d’instruments et chants de Jazz’On : \nPrésentation de l’école et de ses différents cursus\, cours\, horaires\, et modalités d’inscription. \nCette réunion d’information sera également l’occasion d’écouter nos professeurs expérimentés lors d’un mini concert gratuit\, au conservatoire de Dijon\, 24 Bd Georges Clémenceau à Dijon. \nLes inscriptions se tiendront la semaine suivante\, les 16 et 17 Septembre\, même lieu\, même heure. \nVenez nombreux.
URL:https://jazz-on-dijon.fr/event/reunion-de-rentree-mini-concert-gratuit/
LOCATION:Dijon centre\, 24 bd Georges Clémenceau\, Dijon\, 21000\, France
CATEGORIES:Informations
ATTACH;FMTTYPE=image/png:https://jazz-on-dijon.fr/wp-content/uploads/2024/08/Flyer-rentree_2024_A5.png
END:VEVENT
BEGIN:VEVENT
DTSTART;TZID=Europe/Paris:20240925T193000
DTEND;TZID=Europe/Paris:20240925T223000
DTSTAMP:20260422T141701
CREATED:20240923T203925Z
LAST-MODIFIED:20240923T205206Z
UID:4091-1727292600-1727303400@jazz-on-dijon.fr
SUMMARY:Soirée Jazz & Diner Arménien
DESCRIPTION:
URL:https://jazz-on-dijon.fr/event/soiree-jazz-diner-armenien/
LOCATION:Grange de Saulx\, 2 rue de Saulx\, Gilly les Citeaux\, 21640\, France
CATEGORIES:Concert
ATTACH;FMTTYPE=image/png:https://jazz-on-dijon.fr/wp-content/uploads/2024/09/Capture-decran-2024-09-23-a-22.36.39.png
END:VEVENT
BEGIN:VEVENT
DTSTART;TZID=Europe/Paris:20240928T183000
DTEND;TZID=Europe/Paris:20240929T200000
DTSTAMP:20260422T141701
CREATED:20240925T185557Z
LAST-MODIFIED:20240925T191008Z
UID:4124-1727548200-1727640000@jazz-on-dijon.fr
SUMMARY:Week-End Tribu Festival - Samedi 28 et Dimanche 29 Septembre
DESCRIPTION:SAMEDI 28 SEPT. • 20H • LA VAPEUR \nTribu agrandie sa Tribu d’insomniaques avec la très prometteuse voix r’n’b Nina Tonji (en concert gratuit à 18h30)\, puis direction la grande salle avec un des fondateurs du mythique groupe de hip hop new-yorkais Antipop Consortium\, M(r).Sayyid\, le projet franco-américain The Bridge réunissant les figures du jazz actuel ; Damon Locks\, Macie Stewart\, Morgane Carnet\, Jozef Dumoulin et Fanny Lasfargues. \nFatigué·e·s ? Dakchi Hani ! (C’est pas grave !) On continuera à faire danser les esprits avec l’ambassadeur du raï électro-tuné Sami Galbi\, et le duo Adana avec un set tout en sueur à destination des plus effréné·e·s ! \n• Sur place : bar & food\n• Tarifs* : 18€ TP / 15€ PV/TR / 12€ CV / 5\,5€ CC / 24€ PASS 2J \nEn partenariat avec La Vapeur. \n \nDIMANCHE 29 SEPT. • 16H • LA PARENTHÈSE \nDernier jour du Tribu\, un dimanche précieux s’annonce à Quetigny en compagnie de Chicagoan Damon Locks et de la bassiste française Fanny Lasfargues\, et du trio monté par la figure de proue des musiques DIY : Eric Chenaux. \n• Tarifs* : 10€ TP / 5€ TR / 5\,5€ CC \nEn partenariat avec la ville de Quetigny.
URL:https://jazz-on-dijon.fr/event/week-end-tribu-festival-samedi-28-et-dimanche-29-septembre/
LOCATION:La Vapeur\, 42 avenue de Stalingrad\, Dijon\, 21000\, France
CATEGORIES:Concert
ATTACH;FMTTYPE=image/png:https://jazz-on-dijon.fr/wp-content/uploads/2024/09/Tribu-Festival-fete-ses-25-ans.zip-Samedi-28-septembre.png
ORGANIZER;CN="Zutique Productions":MAILTO:contact@zutique.com
END:VEVENT
END:VCALENDAR